BEGIN:VCALENDAR
VERSION:2.0
PRODID:-//wp-events-plugin.com//7.2.3.1//EN
TZID:America/Vancouver
X-WR-TIMEZONE:America/Vancouver
BEGIN:VEVENT
UID:107@ancientfire.ca
DTSTART;TZID=America/Vancouver:20241117T100000
DTEND;TZID=America/Vancouver:20241117T120000
DTSTAMP:20241003T082056Z
URL:https://ancientfire.ca/events/sunday-breathwork-chi-gong-2-2024-11-17/
SUMMARY:Sunday Breathwork & Chi Gong
DESCRIPTION:Service Description\n\n\nGET YOUR TICKETS NOW!\n\n\nReserve you
 r space now via the booking button ($40) or sliding scale ($25-$40) cash a
 t the door subject to availability. Temple Doors open 15 minutes before se
 ssion.\n\nJoin us for this 2 hour in person event on beautiful Salt Spring
  Island\, where we will dive deep into the power of our Breath. We will be
 gin with some gentle Chi Gong to bring us home to our body and help us sta
 rt to bring awareness to our breath. Then\, using the profound tools of Co
 nscious Connected Breathwork and sound healing we can begin to heal deep t
 rauma\, revitalize our minds and bodies\, gain clarity and insight\, and b
 egin to orient ourselves towards healing and transformation in the midst o
 f the storm.\n\nWhen the body and heart feel safe\, the breath can begin t
 o unlock and unwind us\, creating space to release and clear anything that
  no longer serves us.\n\nIt is a solitary journey that we do together. You
  are welcome here.\n\nNo previous experience necessary. Come as you are!\n
 \nWhat to Bring:\n\n 	Please dress warm and in layers. Breathwork can be v
 ery cooling\n 	Yoga mat/or foam mat for the floor\, blanket and pillow\n 	
 Water bottle\n 	Journal (optional)\n 	An open and willing heart!\n 	*Best 
 not to eat for at least 2 hours before the session\n\nBreathwork Contraind
 ications:\n\nBreathwork may not be for you if you have severe cardiovascul
 ar disorders such as uncontrolled high blood pressure/hypertension\, aneur
 ysms\, history of heart attacks\, myocarditis\, atrial fibrillation\, adva
 nced kidney disease and diabetes\, contagious respiratory diseases\, sever
 e psychological imbalances like schizophrenia\, psychotic breaks or severs
  PTSD\, detached retina and glaucoma.\n\nFacilitated by Amber and Rudy Hex
 ter\n\nAmber has spent almost 20 years immersed in the practice of Breathw
 ork. She is a Certified Shamanic Minister\, and is trained in many Breathw
 ork modalities. Dedicated to sharing the profound medicine of Breathwork w
 ith those willing to undertake the courageous journey of self-discovery\, 
 she brings her experience of ceremony and sacred medicine circle to her se
 rvices. Amber offers private sessions for individuals\, couples and groups
 .\n\n\nSome Testimonials:\n\n"I have done years of talk therapy - years - 
 Breathwork with Amber is a lifetime of talk therapy in one session! I can'
 t express how important this work is. I was transported to childhood\, thr
 ough past traumas\, into outer space\, but most importantly\, I became inc
 redibly present! I felt such immense power fill my body! Amber's facilitat
 ion is wonderfully intuitive and nurturing. She creates and holds a deep\,
  powerful\, beautiful safe space which allows one to delve deep into the s
 elf"\n\nMickey Sumner - Actor\n\n“I didn’t know anything about Breathw
 ork but I was desperate for anything that could help me understand my real
 ity\, help heal my traumas\, and most importantly\, to help me move forwar
 d. I arrived confused\, hurt\, and as a walking shell. I left feeling insp
 ired\, hopeful\, and felt significant relief. We all have our own desire t
 o heal and we all have our own stories. I discovered myself\, began to und
 erstand and find myself in that temple. And I’m forever grateful for the
  expert navigation that Amber provided me. I laughed. I cried. I felt. And
  I most importantly\, I started to heal. I suppose when you have the beaut
 y of Salt Spring Island mixed with the serenity of Ancient Fire’s temple
  and the guidance of the light worker that is Amber — how could you not 
 experience something profound?”\n\nBrett Kissel - Country Music Artist\n
 \n"With your innate ability to hold the most incredible safe space\, you a
 llowed me to finally see me\, for who I truly am. You guided me\, held me 
 and allowed all of the angry\, pent-up\, wounded parts of myself\, to surf
 ace and be released. Under your enveloping care\, acceptance and deeply ro
 oted knowing\, you enabled me to transform. It was an experience I never c
 ould have expected or imagined and I will be forever honoured to have expe
 rienced my true self for the first time\, with you. I am a changed Woman. 
 You are a life-altering Being\, offering a life-altering process. Thank yo
 u Amber\, for holding that space. Thank you for showing me the way. Thank 
 you for embodying all of you\, so I could embody all of me."\n\nE.L.\n\n\n
 GET YOUR TICKETS NOW!\n\n\n\n\nUpcoming Sessions\n[events_list category="b
 reathwork-ceremony" scope="1-months"]\n\n#_EVENTLINK on #_EVENTDATES at #_
 EVENTTIMES\n\n[/events_list]\n[events_calendar category="breathwork-ceremo
 ny" full="1" long_events="1"]\n\n\n\nContact Details\nAncientFire@startmai
 l.com\nSalt Spring Island\, British Columbia\, Canada
ATTACH;FMTTYPE=image/jpeg:https://ancientfire.ca/wp-content/uploads/2023/0
 3/1b.jpg
CATEGORIES:Breathwork Class
LOCATION:Walker Hook Road\, 108 Walker Hook Road\, Salt Spring Island\, BC\
 , Canada
X-APPLE-STRUCTURED-LOCATION;VALUE=URI;X-ADDRESS=108 Walker Hook Road\, Salt
  Spring Island\, BC\, Canada;X-APPLE-RADIUS=100;X-TITLE=Walker Hook Road:g
 eo:0,0
END:VEVENT
BEGIN:VTIMEZONE
TZID:America/Vancouver
X-LIC-LOCATION:America/Vancouver
BEGIN:STANDARD
DTSTART:20241103T010000
TZOFFSETFROM:-0700
TZOFFSETTO:-0800
TZNAME:PST
END:STANDARD
END:VTIMEZONE
END:VCALENDAR